BEGIN:VCALENDAR
VERSION:2.0
PRODID:-//LSN - ECPv6.15.20//NONSGML v1.0//EN
CALSCALE:GREGORIAN
METHOD:PUBLISH
X-ORIGINAL-URL:https://lawsocietynamibia.org
X-WR-CALDESC:Events for LSN
REFRESH-INTERVAL;VALUE=DURATION:PT1H
X-Robots-Tag:noindex
X-PUBLISHED-TTL:PT1H
BEGIN:VTIMEZONE
TZID:UTC
BEGIN:STANDARD
TZOFFSETFROM:+0000
TZOFFSETTO:+0000
TZNAME:UTC
DTSTART:20240101T000000
END:STANDARD
END:VTIMEZONE
BEGIN:VEVENT
DTSTART;TZID=UTC:20250913T080000
DTEND;TZID=UTC:20250913T170000
DTSTAMP:20260426T020256
CREATED:20250804T104737Z
LAST-MODIFIED:20250804T105602Z
UID:3703-1757750400-1757782800@lawsocietynamibia.org
SUMMARY:The Law Society of Namibia Fun Day 2025
DESCRIPTION:CLICK THE LINK TO DOWNLOAD THE ENTRY FORM https://lawsocietynamibia.org/wp-content/uploads/Entry_Form_Court_to_Field-2025-VB.docx
URL:https://lawsocietynamibia.org/event/the-law-society-of-namibia-fun-day-2025/
LOCATION:Windhoek High School Rugby Stadium (Vegkop)\, Windhoek\, Khomas\, Namibia
ATTACH;FMTTYPE=image/jpeg:https://lawsocietynamibia.org/wp-content/uploads/4photo_2025-08-04_12-34-42.jpg
END:VEVENT
END:VCALENDAR