BEGIN:VCALENDAR
VERSION:2.0
PRODID:-//LSN - ECPv6.15.20//NONSGML v1.0//EN
CALSCALE:GREGORIAN
METHOD:PUBLISH
X-WR-CALNAME:LSN
X-ORIGINAL-URL:https://lawsocietynamibia.org
X-WR-CALDESC:Events for LSN
REFRESH-INTERVAL;VALUE=DURATION:PT1H
X-Robots-Tag:noindex
X-PUBLISHED-TTL:PT1H
BEGIN:VTIMEZONE
TZID:UTC
BEGIN:STANDARD
TZOFFSETFROM:+0000
TZOFFSETTO:+0000
TZNAME:UTC
DTSTART:20240101T000000
END:STANDARD
END:VTIMEZONE
BEGIN:VEVENT
DTSTART;TZID=UTC:20251107T070000
DTEND;TZID=UTC:20251107T170000
DTSTAMP:20260425T231033
CREATED:20251002T144812Z
LAST-MODIFIED:20251002T144812Z
UID:4498-1762498800-1762534800@lawsocietynamibia.org
SUMMARY:2025 ANNUAL GENERAL MEETING
DESCRIPTION:
URL:https://lawsocietynamibia.org/event/2025-annual-general-meeting/
LOCATION:Droomboss Windhoek\, Windhoek\, Khomas Region\, Namibia
END:VEVENT
END:VCALENDAR