BEGIN:VCALENDAR
VERSION:2.0
PRODID:-//LSN - ECPv6.15.20//NONSGML v1.0//EN
CALSCALE:GREGORIAN
METHOD:PUBLISH
X-WR-CALNAME:LSN
X-ORIGINAL-URL:https://lawsocietynamibia.org
X-WR-CALDESC:Events for LSN
REFRESH-INTERVAL;VALUE=DURATION:PT1H
X-Robots-Tag:noindex
X-PUBLISHED-TTL:PT1H
BEGIN:VTIMEZONE
TZID:UTC
BEGIN:STANDARD
TZOFFSETFROM:+0000
TZOFFSETTO:+0000
TZNAME:UTC
DTSTART:20240101T000000
END:STANDARD
END:VTIMEZONE
BEGIN:VEVENT
DTSTART;TZID=UTC:20250802T080000
DTEND;TZID=UTC:20250802T170000
DTSTAMP:20260426T033109
CREATED:20250725T094702Z
LAST-MODIFIED:20250730T084343Z
UID:3645-1754121600-1754154000@lawsocietynamibia.org
SUMMARY:2025 LEGAL WOMEN'S CONFERENCE
DESCRIPTION:LSN 2nd Annual Women’s Conference 2025\nBigger. Bolder. Beyond Barriers\nThe Law Society of Namibia proudly presents the 2025 Women’s Conference under the transformative theme:\n“Beyond Barriers: Redefining Women’s Leadership\, Wellness\, and Legacy in Law.” \nThis year’s edition builds on the success of 2024 — but goes even deeper. We will not just be talking leadership — we will be reshaping it. From courtroom to boardroom\, from policy spaces to private life\, this conference brings real conversations\, diverse voices\, and bold allyship\, including men in dialogue\, wellness experts\, and trailblazers across all legal fields. \nFeaturing:\nGroundbreaking panel discussions\nPowerful keynote by Namibia’s Hon. Theofilus\nWellness spotlight on the invisible load women carry everyday\nBusiness of law\, mentorship\, and generational legacy\nA celebration of African elegance and excellence \n2025 isn’t just another conference. It’s a movement. A recalibration. A reminder that the future of law is inclusive\, intentional\, and led by women — beyond barriers. \n#LSN2025 #BeyondBarriers #WomenInLaw #LeadershipLegacyWellness #NamibiaLaw #ElegantPower
URL:https://lawsocietynamibia.org/event/2025-legal-womens-conference/
LOCATION:HILTON HOTEL\, Rev Michael Scott Street\, Windhoek\, Khomas\, Namibia
END:VEVENT
BEGIN:VEVENT
DTSTART;VALUE=DATE:20250409
DTEND;VALUE=DATE:20250413
DTSTAMP:20260426T033109
CREATED:20250218T103743Z
LAST-MODIFIED:20250218T104157Z
UID:3635-1744156800-1744502399@lawsocietynamibia.org
SUMMARY:Trial Advocacy Training 2025
DESCRIPTION:The Law Society of Namibia has partnered with the General Bar Council of South Africa to bring the first ever\, one of a kind training to Namibia.\nThe training aims to equip legal practitioners with 4-8 years of post-admission experience with drafting and oral advocacy skills for both motion and trial proceedings in court. \nFor more information on the above\, or to obtain the application form\, and/or any other queries\,\nplease contact Casey Dausas via email at legalofficer@lawsocietynamibia.org or call +26461 230 263.
URL:https://lawsocietynamibia.org/event/trial-advocacy-training/
END:VEVENT
END:VCALENDAR