BEGIN:VCALENDAR
VERSION:2.0
PRODID:-//LSN - ECPv6.15.20//NONSGML v1.0//EN
CALSCALE:GREGORIAN
METHOD:PUBLISH
X-ORIGINAL-URL:https://lawsocietynamibia.org
X-WR-CALDESC:Events for LSN
REFRESH-INTERVAL;VALUE=DURATION:PT1H
X-Robots-Tag:noindex
X-PUBLISHED-TTL:PT1H
BEGIN:VTIMEZONE
TZID:UTC
BEGIN:STANDARD
TZOFFSETFROM:+0000
TZOFFSETTO:+0000
TZNAME:UTC
DTSTART:20240101T000000
END:STANDARD
END:VTIMEZONE
BEGIN:VEVENT
DTSTART;TZID=UTC:20251204T143000
DTEND;TZID=UTC:20251204T170000
DTSTAMP:20260425T202954
CREATED:20251127T101713Z
LAST-MODIFIED:20251127T102342Z
UID:4786-1764858600-1764867600@lawsocietynamibia.org
SUMMARY:A MASTER LECTURE BY Chief Justice of South Africa
DESCRIPTION:
URL:https://lawsocietynamibia.org/event/a-master-lecture/
LOCATION:HILTON HOTEL\, Rev Michael Scott Street\, Windhoek\, Khomas\, Namibia
END:VEVENT
END:VCALENDAR