BEGIN:VCALENDAR
VERSION:2.0
PRODID:-//LSN - ECPv6.15.20//NONSGML v1.0//EN
CALSCALE:GREGORIAN
METHOD:PUBLISH
X-WR-CALNAME:LSN
X-ORIGINAL-URL:https://lawsocietynamibia.org
X-WR-CALDESC:Events for LSN
REFRESH-INTERVAL;VALUE=DURATION:PT1H
X-Robots-Tag:noindex
X-PUBLISHED-TTL:PT1H
BEGIN:VTIMEZONE
TZID:UTC
BEGIN:STANDARD
TZOFFSETFROM:+0000
TZOFFSETTO:+0000
TZNAME:UTC
DTSTART:20250101T000000
END:STANDARD
END:VTIMEZONE
BEGIN:VEVENT
DTSTART;TZID=UTC:20260221T060000
DTEND;TZID=UTC:20260221T080000
DTSTAMP:20260425T174141
CREATED:20260203T132328Z
LAST-MODIFIED:20260203T141635Z
UID:5329-1771653600-1771660800@lawsocietynamibia.org
SUMMARY:LSN FUN TRAIL WALK
DESCRIPTION:DOWNLOAD REGISTRATION FORM HERE
URL:https://lawsocietynamibia.org/event/lsn-fun-trail-walk/
LOCATION:IJG TRAILS FARM WINDHOEK
END:VEVENT
END:VCALENDAR